BEGIN:VCALENDAR
VERSION:2.0
PRODID:-//TYPO3/WES Cal (wes_cal)//DE
METHOD:PUBLISH
BEGIN:VEVENT
UID:https://xn--bder-loa.friedrichshafen.de_40833
DTSTAMP:20260420T120814
DTSTART:20260414T000000
CATEGORIES:Erwachsenenschwimmkurse
SUMMARY:Schwimmkurs für Jugendliche und Erwachsene | Enis Gherissi (April 2026)
DESCRIPTION:Kursziel: Schwimmen lernen, Festigung des Schwimmstils und weitere Schwimmarten kennenlernen\r\nVoraussetzung: Interesse am Schwimmen\r\nKursbeginn: 14.04.2026\r\nKurstage: \r\n18./25.04.2026: 12.15 -13.00 Uhr21.04.2026: 18:00–18:50 Uhr28./29.04.2026: 18:00–18:50 Uhr\r\nAnzahl der Termine / Dauer: 5 Termine\r\nTeilnehmerzahl: variabel\r\nAlter: ab 16 Jahren\r\nAnmeldung: per WhatsApp oder E-Mail \r\n\r\nNichtschwimmer werden an das Schwimmen herangeführt und lernen das Brustschwimmen.\r\nFortgeschrittene Schwimmer können ihren Schwimmstil verbessern und weitere Schwimmstiele erlernen. Auch das Tauchen und Springen kann trainiert werden. 
LOCATION:Sport- und Freizeitbad Friedrichshafen, 88045 Friedrichshafen
END:VEVENT
END:VCALENDAR